BEGIN:VCALENDAR
VERSION:2.0
PRODID:-//NC EcoTech - ECPv6.7.0//NONSGML v1.0//EN
CALSCALE:GREGORIAN
METHOD:PUBLISH
X-WR-CALNAME:NC EcoTech
X-ORIGINAL-URL:https://ncecotech.org
X-WR-CALDESC:Events for NC EcoTech
REFRESH-INTERVAL;VALUE=DURATION:PT1H
X-Robots-Tag:noindex
X-PUBLISHED-TTL:PT1H
BEGIN:VTIMEZONE
TZID:UTC
BEGIN:STANDARD
TZOFFSETFROM:+0000
TZOFFSETTO:+0000
TZNAME:UTC
DTSTART:20240101T000000
END:STANDARD
END:VTIMEZONE
BEGIN:VEVENT
DTSTART;TZID=UTC:20250327T080000
DTEND;TZID=UTC:20250328T170000
DTSTAMP:20260421T133021
CREATED:20250130T175220Z
LAST-MODIFIED:20250130T191955Z
UID:2318-1743062400-1743181200@ncecotech.org
SUMMARY:2025 NC Aquaculture Development Conference
DESCRIPTION:The NC Aquaculture Development Conference is a premier event uniting the general public\, current and prospective fish farmers\, scientists\, and regulatory professionals to share knowledge and ideas about advancing aquaculture in North Carolina. Attendees can explore a wide range of topics relevant to aquaculture species in the state\, engage with cutting-edge equipment and products at the trade show\, and connect with industry leaders.
URL:https://ncecotech.org/event/2025-nc-aquaculture-development-conference/
LOCATION:Crystal Coast Civic Center\, Morehead City\, NC\, 203 College Cir\, Morehead City\, North Carolina\, 28557\, United States
ATTACH;FMTTYPE=image/png:https://ncecotech.org/wp-content/uploads/2025/01/LOGO-Aquaculture-Development-conference-1.png
END:VEVENT
BEGIN:VEVENT
DTSTART;TZID=UTC:20250325T080000
DTEND;TZID=UTC:20250326T170000
DTSTAMP:20260421T133021
CREATED:20250130T191757Z
LAST-MODIFIED:20250130T191759Z
UID:2322-1742889600-1743008400@ncecotech.org
SUMMARY:2025 NC Rural Summit
DESCRIPTION:Join the 2025 Rural Summit\, hosted by the NC Rural Center in Raleigh. This event will focus on key policy issues for rural North Carolina\, including education\, workforce training\, infrastructure\, healthcare\, and small business. 
URL:https://ncecotech.org/event/2025-nc-rural-summit/
ATTACH;FMTTYPE=image/png:https://ncecotech.org/wp-content/uploads/2025/01/Screenshot-2025-01-30-at-1.01.57-PM.png
END:VEVENT
BEGIN:VEVENT
DTSTART;TZID=UTC:20241113T080000
DTEND;TZID=UTC:20241114T170000
DTSTAMP:20260421T133021
CREATED:20240819T215258Z
LAST-MODIFIED:20240819T215300Z
UID:2114-1731484800-1731603600@ncecotech.org
SUMMARY:NC SeaGrant Coastal Conference\, New Bern
DESCRIPTION:
URL:https://ncseagrant.ncsu.edu/coastal-conference/#new_tab
CATEGORIES:Event
ATTACH;FMTTYPE=image/png:https://ncecotech.org/wp-content/uploads/2024/08/NorthCarolina_blue.png
END:VEVENT
BEGIN:VEVENT
DTSTART;TZID=UTC:20241009T090000
DTEND;TZID=UTC:20241011T170000
DTSTAMP:20260421T133021
CREATED:20240819T213022Z
LAST-MODIFIED:20240819T213025Z
UID:2109-1728464400-1728666000@ncecotech.org
SUMMARY:Coastal Carolina Riverwatch\, Water Quality for Fisheries\, DUML
DESCRIPTION:
URL:https://coastalcarolinariverwatch.org/water-quality-for-fisheries/water-quality-for-fisheries-symposium/#new_tab
CATEGORIES:Event
ATTACH;FMTTYPE=image/jpeg:https://ncecotech.org/wp-content/uploads/2024/08/cropped-cropped-CCRW_Logo_Final_blue-768x347-1.jpg
ORGANIZER;CN="Field Museum":MAILTO:museum@email.com
END:VEVENT
BEGIN:VEVENT
DTSTART;TZID=UTC:20240918T080000
DTEND;TZID=UTC:20240918T143000
DTSTAMP:20260421T133021
CREATED:20240820T152229Z
LAST-MODIFIED:20240820T152445Z
UID:2117-1726646400-1726669800@ncecotech.org
SUMMARY:NC EcoTech Coastal Resiliency Visioning Session\, UNCW
DESCRIPTION:
URL:https://share.hsforms.com/1_zQqxhX7REGhAc6CG4P_SAe2blu#new_tab
ATTACH;FMTTYPE=image/jpeg:https://ncecotech.org/wp-content/uploads/2024/08/ocean-innovation-conference-logo.jpg
END:VEVENT
BEGIN:VEVENT
DTSTART;TZID=UTC:20240917T080000
DTEND;TZID=UTC:20240917T170000
DTSTAMP:20260421T133021
CREATED:20240819T195509Z
LAST-MODIFIED:20240819T211236Z
UID:2102-1726560000-1726592400@ncecotech.org
SUMMARY:Ocean Innovation Conference\, UNCW
DESCRIPTION:
URL:https://uncw.edu/research/centers/innovation-entrepreneurship/events-programs/programs/ocean-innovation/#new_tab
CATEGORIES:Event
ATTACH;FMTTYPE=image/jpeg:https://ncecotech.org/wp-content/uploads/2024/08/ocean-innovation-conference-logo.jpg
ORGANIZER;CN="Field Museum":MAILTO:museum@email.com
END:VEVENT
END:VCALENDAR